Workbook

Sheet Операции
A1: Месяц | B1: Год | C1: Дата | D1: Тип операции | E1: Тикер | F1: Название | G1: Количество | H1: Цена | I1: Сумма (авто) | J1: Валюта | K1: Комиссия | L1: Примечание
A2: =IF(C2="","",TEXT(C2,"ММММ")) -> Сентябрь | B2: =IF(C2="","",TEXT(C2,"ГГГГ")) -> 2026 | C2: 46266 | D2: Покупка | E2: SBER | F2: Сбербанк | G2: 100 | H2: 290 | I2: =IF(D2="Покупка",IF(N(G2)*N(H2)=0,"",N(G2)*N(H2)+N(K2)),IF(D2="Продажа",IF(N(G2)*N(H2)=0,"",N(G2)*N(H2)-N(K2)),IF(OR(D2="Дивиденд",D2="Купон"),IF(H2="","",N(H2)-N(K2)),""))) -> 29029.5 | J2: RUB | K2: 29.5 | L2: План: держать 3+ года (ЛДВ)
A3: =IF(C3="","",TEXT(C3,"ММММ")) -> Сентябрь | B3: =IF(C3="","",TEXT(C3,"ГГГГ")) -> 2026 | C3: 46270 | D3: Покупка | E3: SBER | F3: Сбербанк | G3: 50 | H3: 305 | I3: =IF(D3="Покупка",IF(N(G3)*N(H3)=0,"",N(G3)*N(H3)+N(K3)),IF(D3="Продажа",IF(N(G3)*N(H3)=0,"",N(G3)*N(H3)-N(K3)),IF(OR(D3="Дивиденд",D3="Купон"),IF(H3="","",N(H3)-N(K3)),""))) -> 15265.3 | J3: RUB | K3: 15.3 | L3: Докупка на просадке
A4: =IF(C4="","",TEXT(C4,"ММММ")) -> Сентябрь | B4: =IF(C4="","",TEXT(C4,"ГГГГ")) -> 2026 | C4: 46275 | D4: Дивиденд | E4: SBER | F4: Сбербанк | G4: 100 | H4: 33.3 | I4: =IF(D4="Покупка",IF(N(G4)*N(H4)=0,"",N(G4)*N(H4)+N(K4)),IF(D4="Продажа",IF(N(G4)*N(H4)=0,"",N(G4)*N(H4)-N(K4)),IF(OR(D4="Дивиденд",D4="Купон"),IF(H4="","",N(H4)-N(K4)),"")))*G4 -> 2897 | J4: RUB | K4: 4.33 | L4: Чистыми после НДФЛ
A5: =IF(C5="","",TEXT(C5,"ММММ")) -> Сентябрь | B5: =IF(C5="","",TEXT(C5,"ГГГГ")) -> 2026 | C5: 46280 | D5: Покупка | E5: LKOH | F5: ЛУКОЙЛ | G5: 2 | H5: 6800 | I5: =IF(D5="Покупка",IF(N(G5)*N(H5)=0,"",N(G5)*N(H5)+N(K5)),IF(D5="Продажа",IF(N(G5)*N(H5)=0,"",N(G5)*N(H5)-N(K5)),IF(OR(D5="Дивиденд",D5="Купон"),IF(H5="","",N(H5)-N(K5)),""))) -> 13668 | J5: RUB | K5: 68
A6: =IF(C6="","",TEXT(C6,"ММММ")) -> Октябрь | B6: =IF(C6="","",TEXT(C6,"ГГГГ")) -> 2026 | C6: 46296 | D6: Ввод | I6: =IF(D6="Покупка",IF(N(G6)*N(H6)=0,"",N(G6)*N(H6)+N(K6)),IF(D6="Продажа",IF(N(G6)*N(H6)=0,"",N(G6)*N(H6)-N(K6)),IF(OR(D6="Дивиденд",D6="Купон"),IF(H6="","",N(H6)-N(K6)),""))) | J6: RUB | L6: Ежемесячное пополнение
A7: =IF(C7="","",TEXT(C7,"ММММ")) -> Октябрь | B7: =IF(C7="","",TEXT(C7,"ГГГГ")) -> 2026 | C7: 46297 | D7: Покупка | E7: SBER | F7: Сбербанк | G7: 122 | H7: 258.399 | I7: =IF(D7="Покупка",IF(N(G7)*N(H7)=0,"",N(G7)*N(H7)+N(K7)),IF(D7="Продажа",IF(N(G7)*N(H7)=0,"",N(G7)*N(H7)-N(K7)),IF(OR(D7="Дивиденд",D7="Купон"),IF(H7="","",N(H7)-N(K7)),""))) -> 31556.203 | J7: RUB | K7: 31.524678
A8: =IF(C8="","",TEXT(C8,"ММММ")) -> Октябрь | B8: =IF(C8="","",TEXT(C8,"ГГГГ")) -> 2026 | C8: 46298 | D8: Покупка | E8: NVTK | F8: НОВАТЭК | G8: 60 | H8: 965.7 | I8: =IF(D8="Покупка",IF(N(G8)*N(H8)=0,"",N(G8)*N(H8)+N(K8)),IF(D8="Продажа",IF(N(G8)*N(H8)=0,"",N(G8)*N(H8)-N(K8)),IF(OR(D8="Дивиденд",D8="Купон"),IF(H8="","",N(H8)-N(K8)),""))) -> 57999.942 | J8: RUB | K8: 57.942
A9: =IF(C9="","",TEXT(C9,"ММММ")) -> Октябрь | B9: =IF(C9="","",TEXT(C9,"ГГГГ")) -> 2026 | C9: 46300 | D9: Покупка | E9: X5 | F9: КЦ Икс 5 (Пятерка) | G9: 7 | H9: 1909.35 | I9: =IF(D9="Покупка",IF(N(G9)*N(H9)=0,"",N(G9)*N(H9)+N(K9)),IF(D9="Продажа",IF(N(G9)*N(H9)=0,"",N(G9)*N(H9)-N(K9)),IF(OR(D9="Дивиденд",D9="Купон"),IF(H9="","",N(H9)-N(K9)),""))) -> 13378.815 | J9: RUB | K9: 13.36545
A10: =IF(C10="","",TEXT(C10,"ММММ")) -> Октябрь | B10: =IF(C10="","",TEXT(C10,"ГГГГ")) -> 2026 | C10: 46301 | D10: Покупка | E10: IRAO | F10: ИнтерРАО | G10: 10 | H10: 2.30715 | I10: =IF(D10="Покупка",IF(N(G10)*N(H10)=0,"",N(G10)*N(H10)+N(K10)),IF(D10="Продажа",IF(N(G10)*N(H10)=0,"",N(G10)*N(H10)-N(K10)),IF(OR(D10="Дивиденд",D10="Купон"),IF(H10="","",N(H10)-N(K10)),""))) -> 23.094572 | J10: RUB | K10: 0.0230715
A11: =IF(C11="","",TEXT(C11,"ММММ")) -> Октябрь | B11: =IF(C11="","",TEXT(C11,"ГГГГ")) -> 2026 | C11: 46302 | D11: Покупка | E11: ROSN | F11: Роснефть | G11: 500 | H11: 338.4 | I11: =IF(D11="Покупка",IF(N(G11)*N(H11)=0,"",N(G11)*N(H11)+N(K11)),IF(D11="Продажа",IF(N(G11)*N(H11)=0,"",N(G11)*N(H11)-N(K11)),IF(OR(D11="Дивиденд",D11="Купон"),IF(H11="","",N(H11)-N(K11)),""))) -> 169369.2 | J11: RUB | K11: 169.2
A12: =IF(C12="","",TEXT(C12,"ММММ")) -> Октябрь | B12: =IF(C12="","",TEXT(C12,"ГГГГ")) -> 2026 | C12: 46303 | D12: Покупка | E12: SBERP | F12: Сбер-п | G12: 40 | H12: 258.714 | I12: =IF(D12="Покупка",IF(N(G12)*N(H12)=0,"",N(G12)*N(H12)+N(K12)),IF(D12="Продажа",IF(N(G12)*N(H12)=0,"",N(G12)*N(H12)-N(K12)),IF(OR(D12="Дивиденд",D12="Купон"),IF(H12="","",N(H12)-N(K12)),""))) -> 10358.909 | J12: RUB | K12: 10.34856
A13: =IF(C13="","",TEXT(C13,"ММММ")) -> Октябрь | B13: =IF(C13="","",TEXT(C13,"ГГГГ")) -> 2026 | C13: 46305 | D13: Покупка | E13: BSPB | F13: Банк СПБ | G13: 5 | H13: 227.403 | I13: =IF(D13="Покупка",IF(N(G13)*N(H13)=0,"",N(G13)*N(H13)+N(K13)),IF(D13="Продажа",IF(N(G13)*N(H13)=0,"",N(G13)*N(H13)-N(K13)),IF(OR(D13="Дивиденд",D13="Купон"),IF(H13="","",N(H13)-N(K13)),""))) -> 1138.152 | J13: RUB | K13: 1.137015
A14: =IF(C14="","",TEXT(C14,"ММММ")) -> Октябрь | B14: =IF(C14="","",TEXT(C14,"ГГГГ")) -> 2026 | C14: 46306 | D14: Покупка | E14: YDEX | F14: Яндекс | G14: 100 | H14: 3155.85 | I14: =IF(D14="Покупка",IF(N(G14)*N(H14)=0,"",N(G14)*N(H14)+N(K14)),IF(D14="Продажа",IF(N(G14)*N(H14)=0,"",N(G14)*N(H14)-N(K14)),IF(OR(D14="Дивиденд",D14="Купон"),IF(H14="","",N(H14)-N(K14)),""))) -> 315900.59 | J14: RUB | K14: 315.585
A15: =IF(C15="","",TEXT(C15,"ММММ")) -> Март | B15: =IF(C15="","",TEXT(C15,"ГГГГ")) -> 2026 | C15: 46091 | D15: Дивиденд | E15: SBER | F15: Сбербанк | G15: 200 | H15: 40 | I15: =IF(D15="Покупка",IF(N(G15)*N(H15)=0,"",N(G15)*N(H15)+N(K15)),IF(D15="Продажа",IF(N(G15)*N(H15)=0,"",N(G15)*N(H15)-N(K15)),IF(OR(D15="Дивиденд",D15="Купон"),IF(H15="","",N(H15)-N(K15)),"")))*G15 -> 7000 | J15: RUB | K15: 5 | L15: Чистыми после НДФЛ
A16: =IF(C16="","",TEXT(C16,"ММММ")) | B16: =IF(C16="","",TEXT(C16,"ГГГГ")) | I16: =IF(D16="Покупка",IF(N(G16)*N(H16)=0,"",N(G16)*N(H16)+N(K16)),IF(D16="Продажа",IF(N(G16)*N(H16)=0,"",N(G16)*N(H16)-N(K16)),IF(OR(D16="Дивиденд",D16="Купон"),IF(H16="","",N(H16)-N(K16)),"")))
A17: =IF(C17="","",TEXT(C17,"ММММ")) | B17: =IF(C17="","",TEXT(C17,"ГГГГ")) | I17: =IF(D17="Покупка",IF(N(G17)*N(H17)=0,"",N(G17)*N(H17)+N(K17)),IF(D17="Продажа",IF(N(G17)*N(H17)=0,"",N(G17)*N(H17)-N(K17)),IF(OR(D17="Дивиденд",D17="Купон"),IF(H17="","",N(H17)-N(K17)),"")))
A18: =IF(C18="","",TEXT(C18,"ММММ")) | B18: =IF(C18="","",TEXT(C18,"ГГГГ")) | I18: =IF(D18="Покупка",IF(N(G18)*N(H18)=0,"",N(G18)*N(H18)+N(K18)),IF(D18="Продажа",IF(N(G18)*N(H18)=0,"",N(G18)*N(H18)-N(K18)),IF(OR(D18="Дивиденд",D18="Купон"),IF(H18="","",N(H18)-N(K18)),"")))
A19: =IF(C19="","",TEXT(C19,"ММММ")) | B19: =IF(C19="","",TEXT(C19,"ГГГГ")) | I19: =IF(D19="Покупка",IF(N(G19)*N(H19)=0,"",N(G19)*N(H19)+N(K19)),IF(D19="Продажа",IF(N(G19)*N(H19)=0,"",N(G19)*N(H19)-N(K19)),IF(OR(D19="Дивиденд",D19="Купон"),IF(H19="","",N(H19)-N(K19)),"")))
A20: =IF(C20="","",TEXT(C20,"ММММ")) | B20: =IF(C20="","",TEXT(C20,"ГГГГ")) | I20: =IF(D20="Покупка",IF(N(G20)*N(H20)=0,"",N(G20)*N(H20)+N(K20)),IF(D20="Продажа",IF(N(G20)*N(H20)=0,"",N(G20)*N(H20)-N(K20)),IF(OR(D20="Дивиденд",D20="Купон"),IF(H20="","",N(H20)-N(K20)),"")))
A21: =IF(C21="","",TEXT(C21,"ММММ")) | B21: =IF(C21="","",TEXT(C21,"ГГГГ")) | I21: =IF(D21="Покупка",IF(N(G21)*N(H21)=0,"",N(G21)*N(H21)+N(K21)),IF(D21="Продажа",IF(N(G21)*N(H21)=0,"",N(G21)*N(H21)-N(K21)),IF(OR(D21="Дивиденд",D21="Купон"),IF(H21="","",N(H21)-N(K21)),"")))
A22: =IF(C22="","",TEXT(C22,"ММММ")) | B22: =IF(C22="","",TEXT(C22,"ГГГГ")) | I22: =IF(D22="Покупка",IF(N(G22)*N(H22)=0,"",N(G22)*N(H22)+N(K22)),IF(D22="Продажа",IF(N(G22)*N(H22)=0,"",N(G22)*N(H22)-N(K22)),IF(OR(D22="Дивиденд",D22="Купон"),IF(H22="","",N(H22)-N(K22)),"")))
A23: =IF(C23="","",TEXT(C23,"ММММ")) | B23: =IF(C23="","",TEXT(C23,"ГГГГ")) | I23: =IF(D23="Покупка",IF(N(G23)*N(H23)=0,"",N(G23)*N(H23)+N(K23)),IF(D23="Продажа",IF(N(G23)*N(H23)=0,"",N(G23)*N(H23)-N(K23)),IF(OR(D23="Дивиденд",D23="Купон"),IF(H23="","",N(H23)-N(K23)),"")))
A24: =IF(C24="","",TEXT(C24,"ММММ")) | B24: =IF(C24="","",TEXT(C24,"ГГГГ")) | I24: =IF(D24="Покупка",IF(N(G24)*N(H24)=0,"",N(G24)*N(H24)+N(K24)),IF(D24="Продажа",IF(N(G24)*N(H24)=0,"",N(G24)*N(H24)-N(K24)),IF(OR(D24="Дивиденд",D24="Купон"),IF(H24="","",N(H24)-N(K24)),"")))
A25: =IF(C25="","",TEXT(C25,"ММММ")) | B25: =IF(C25="","",TEXT(C25,"ГГГГ")) | I25: =IF(D25="Покупка",IF(N(G25)*N(H25)=0,"",N(G25)*N(H25)+N(K25)),IF(D25="Продажа",IF(N(G25)*N(H25)=0,"",N(G25)*N(H25)-N(K25)),IF(OR(D25="Дивиденд",D25="Купон"),IF(H25="","",N(H25)-N(K25)),"")))
A26: =IF(C26="","",TEXT(C26,"ММММ")) | B26: =IF(C26="","",TEXT(C26,"ГГГГ")) | I26: =IF(D26="Покупка",IF(N(G26)*N(H26)=0,"",N(G26)*N(H26)+N(K26)),IF(D26="Продажа",IF(N(G26)*N(H26)=0,"",N(G26)*N(H26)-N(K26)),IF(OR(D26="Дивиденд",D26="Купон"),IF(H26="","",N(H26)-N(K26)),"")))
A27: =IF(C27="","",TEXT(C27,"ММММ")) | B27: =IF(C27="","",TEXT(C27,"ГГГГ")) | I27: =IF(D27="Покупка",IF(N(G27)*N(H27)=0,"",N(G27)*N(H27)+N(K27)),IF(D27="Продажа",IF(N(G27)*N(H27)=0,"",N(G27)*N(H27)-N(K27)),IF(OR(D27="Дивиденд",D27="Купон"),IF(H27="","",N(H27)-N(K27)),"")))
... A299: =IF(C299="","",TEXT(C299,"ММММ")) | B299: =IF(C299="","",TEXT(C299,"ГГГГ")) | I299: =IF(D299="Покупка",IF(N(G299)*N(H299)=0,"",N(G299)*N(H299)+N(K299)),IF(D299="Продажа",IF(N(G299)*N(H299)=0,"",N(G299)*N(H299)-N(K299)),IF(OR(D299="Дивиденд",D299="Купон"),IF(H299="","",N(H299)-N(K299)),"")))

Sheet Дашборд
A1: 📊 Дашборд портфеля | D1: 2026
A18: ДЕНЬГИ
A19: Внесено всего | D19: =SUMIF(Операции!$D$2:$D$299,"Ввод",Операции!$I$2:$I$299) -> 0
A20: Выведено (продажи + выводы) | D20: =SUMIF(Операции!$D$2:$D$299,"Вывод",Операции!$I$2:$I$299)+SUMIF(Операции!$D$2:$D$299,"Продажа",Операции!$I$2:$I$299) -> 0
A21: Чистый вложенный капитал | D21: =D19-D20 -> 0
A22: Комиссии за всё время | D22: =SUM(Операции!$K$2:$K$299) -> 721.25577
A23: Дивиденды и купоны (чистыми) | D23: =SUMIF(Операции!$D$2:$D$299,"Дивиденд",Операции!$I$2:$I$299)+SUMIF(Операции!$D$2:$D$299,"Купон",Операции!$I$2:$I$299) -> 9897
A24: ПОРТФЕЛЬ ПО БУМАГАМ
A25: Тикеры подтягиваются из «Операций» автоматически. Цены — в жёлтую колонку G, сектор — в колонку L
A26: Тикер | B26: Куплено, шт. | C26: Продано, шт. | D26: Остаток, шт. | E26: Средняя цена | F26: Вложено | G26: Текущая цена (вручную) | H26: Текущая стоимость | I26: Прибыль | J26: Доходность | K26: Сектор
A27: =IFERROR(__xludf.DUMMYFUNCTION("IFERROR(SORT(UNIQUE(ARRAYFORMULA(UPPER(TRIM(FILTER('Операции'!$C$2:$C$299,'Операции'!$C$2:$C$299<>"""")))))),"""")"),"BSPB") -> BSPB | B27: =IF($A27="","",IFERROR(SUMPRODUCT((Операции!$E$2:$E$299=$A27)*(Операции!$D$2:$D$299="Покупка")*Операции!$G$2:$G$299),0)) -> 5 | C27: =IF($A27="","",IFERROR(SUMPRODUCT((Операции!$E$2:$E$299=$A27)*(Операции!$D$2:$D$299="Продажа")*Операции!$G$2:$G$299),0)) -> 0 | D27: =IF($A27="","",B27-C27) -> 5 | E27: =IF($A27="","",IFERROR(SUMPRODUCT((Операции!$E$2:$E$299=$A27)*(Операции!$D$2:$D$299="Покупка")*Операции!$G$2:$G$299*Операции!$H$2:$H$299)/SUMPRODUCT((Операции!$E$2:$E$299=$A27)*(Операции!$D$2:$D$299="Покупка")*Операции!$G$2:$G$299),0)) -> 227.403 | F27: =IF($A27="","",D27*E27) -> 1137.015 | G27: =VLOOKUP(A27,'Цены (API)'!A:C,3,0) -> 252.67 | H27: =IF($A27="","",IF(G27="",0,D27*N(G27))) -> 1263.35 | I27: =IF($A27="","",H27-F27) -> 126.335 | J27: =IF($A27="","",IFERROR(I27/F27,0)) -> 0.11111111 | K27: Потребительский
A28: =IFERROR(__xludf.DUMMYFUNCTION("""COMPUTED_VALUE"""),"IRAO") -> IRAO | B28: =IF($A28="","",IFERROR(SUMPRODUCT((Операции!$E$2:$E$299=$A28)*(Операции!$D$2:$D$299="Покупка")*Операции!$G$2:$G$299),0)) -> 10 | C28: =IF($A28="","",IFERROR(SUMPRODUCT((Операции!$E$2:$E$299=$A28)*(Операции!$D$2:$D$299="Продажа")*Операции!$G$2:$G$299),0)) -> 0 | D28: =IF($A28="","",B28-C28) -> 10 | E28: =IF($A28="","",IFERROR(SUMPRODUCT((Операции!$E$2:$E$299=$A28)*(Операции!$D$2:$D$299="Покупка")*Операции!$G$2:$G$299*Операции!$H$2:$H$299)/SUMPRODUCT((Операции!$E$2:$E$299=$A28)*(Операции!$D$2:$D$299="Покупка")*Операции!$G$2:$G$299),0)) -> 2.30715 | F28: =IF($A28="","",D28*E28) -> 23.0715 | G28: =VLOOKUP(A28,'Цены (API)'!A:C,3,0) -> 2.5635 | H28: =IF($A28="","",IF(G28="",0,D28*N(G28))) -> 25.635 | I28: =IF($A28="","",H28-F28) -> 2.5635 | J28: =IF($A28="","",IFERROR(I28/F28,0)) -> 0.11111111 | K28: Электроэнергетика
A29: =IFERROR(__xludf.DUMMYFUNCTION("""COMPUTED_VALUE"""),"LKOH") -> LKOH | B29: =IF($A29="","",IFERROR(SUMPRODUCT((Операции!$E$2:$E$299=$A29)*(Операции!$D$2:$D$299="Покупка")*Операции!$G$2:$G$299),0)) -> 2 | C29: =IF($A29="","",IFERROR(SUMPRODUCT((Операции!$E$2:$E$299=$A29)*(Операции!$D$2:$D$299="Продажа")*Операции!$G$2:$G$299),0)) -> 0 | D29: =IF($A29="","",B29-C29) -> 2 | E29: =IF($A29="","",IFERROR(SUMPRODUCT((Операции!$E$2:$E$299=$A29)*(Операции!$D$2:$D$299="Покупка")*Операции!$G$2:$G$299*Операции!$H$2:$H$299)/SUMPRODUCT((Операции!$E$2:$E$299=$A29)*(Операции!$D$2:$D$299="Покупка")*Операции!$G$2:$G$299),0)) -> 6800 | F29: =IF($A29="","",D29*E29) -> 13600 | G29: =VLOOKUP(A29,'Цены (API)'!A:C,3,0) -> 5987 | H29: =IF($A29="","",IF(G29="",0,D29*N(G29))) -> 11974 | I29: =IF($A29="","",H29-F29) -> -1626 | J29: =IF($A29="","",IFERROR(I29/F29,0)) -> -0.11955882 | K29: Нефть и газ
A30: =IFERROR(__xludf.DUMMYFUNCTION("""COMPUTED_VALUE"""),"NVTK") -> NVTK | B30: =IF($A30="","",IFERROR(SUMPRODUCT((Операции!$E$2:$E$299=$A30)*(Операции!$D$2:$D$299="Покупка")*Операции!$G$2:$G$299),0)) -> 60 | C30: =IF($A30="","",IFERROR(SUMPRODUCT((Операции!$E$2:$E$299=$A30)*(Операции!$D$2:$D$299="Продажа")*Операции!$G$2:$G$299),0)) -> 0 | D30: =IF($A30="","",B30-C30) -> 60 | E30: =IF($A30="","",IFERROR(SUMPRODUCT((Операции!$E$2:$E$299=$A30)*(Операции!$D$2:$D$299="Покупка")*Операции!$G$2:$G$299*Операции!$H$2:$H$299)/SUMPRODUCT((Операции!$E$2:$E$299=$A30)*(Операции!$D$2:$D$299="Покупка")*Операции!$G$2:$G$299),0)) -> 965.7 | F30: =IF($A30="","",D30*E30) -> 57942 | G30: =VLOOKUP(A30,'Цены (API)'!A:C,3,0) -> 1073 | H30: =IF($A30="","",IF(G30="",0,D30*N(G30))) -> 64380 | I30: =IF($A30="","",H30-F30) -> 6438 | J30: =IF($A30="","",IFERROR(I30/F30,0)) -> 0.11111111 | K30: Нефть и газ
A31: =IFERROR(__xludf.DUMMYFUNCTION("""COMPUTED_VALUE"""),"ROSN") -> ROSN | B31: =IF($A31="","",IFERROR(SUMPRODUCT((Операции!$E$2:$E$299=$A31)*(Операции!$D$2:$D$299="Покупка")*Операции!$G$2:$G$299),0)) -> 500 | C31: =IF($A31="","",IFERROR(SUMPRODUCT((Операции!$E$2:$E$299=$A31)*(Операции!$D$2:$D$299="Продажа")*Операции!$G$2:$G$299),0)) -> 0 | D31: =IF($A31="","",B31-C31) -> 500 | E31: =IF($A31="","",IFERROR(SUMPRODUCT((Операции!$E$2:$E$299=$A31)*(Операции!$D$2:$D$299="Покупка")*Операции!$G$2:$G$299*Операции!$H$2:$H$299)/SUMPRODUCT((Операции!$E$2:$E$299=$A31)*(Операции!$D$2:$D$299="Покупка")*Операции!$G$2:$G$299),0)) -> 338.4 | F31: =IF($A31="","",D31*E31) -> 169200 | G31: =VLOOKUP(A31,'Цены (API)'!A:C,3,0) -> 376 | H31: =IF($A31="","",IF(G31="",0,D31*N(G31))) -> 188000 | I31: =IF($A31="","",H31-F31) -> 18800 | J31: =IF($A31="","",IFERROR(I31/F31,0)) -> 0.11111111 | K31: Нефть и газ
A32: =IFERROR(__xludf.DUMMYFUNCTION("""COMPUTED_VALUE"""),"SBER") -> SBER | B32: =IF($A32="","",IFERROR(SUMPRODUCT((Операции!$E$2:$E$299=$A32)*(Операции!$D$2:$D$299="Покупка")*Операции!$G$2:$G$299),0)) -> 272 | C32: =IF($A32="","",IFERROR(SUMPRODUCT((Операции!$E$2:$E$299=$A32)*(Операции!$D$2:$D$299="Продажа")*Операции!$G$2:$G$299),0)) -> 0 | D32: =IF($A32="","",B32-C32) -> 272 | E32: =IF($A32="","",IFERROR(SUMPRODUCT((Операции!$E$2:$E$299=$A32)*(Операции!$D$2:$D$299="Покупка")*Операции!$G$2:$G$299*Операции!$H$2:$H$299)/SUMPRODUCT((Операции!$E$2:$E$299=$A32)*(Операции!$D$2:$D$299="Покупка")*Операции!$G$2:$G$299),0)) -> 278.58337 | F32: =IF($A32="","",D32*E32) -> 75774.678 | G32: =VLOOKUP(A32,'Цены (API)'!A:C,3,0) -> 287.11 | H32: =IF($A32="","",IF(G32="",0,D32*N(G32))) -> 78093.92 | I32: =IF($A32="","",H32-F32) -> 2319.242 | J32: =IF($A32="","",IFERROR(I32/F32,0)) -> 0.030607085 | K32: Финансы
A33: =IFERROR(__xludf.DUMMYFUNCTION("""COMPUTED_VALUE"""),"SBERP") -> SBERP | B33: =IF($A33="","",IFERROR(SUMPRODUCT((Операции!$E$2:$E$299=$A33)*(Операции!$D$2:$D$299="Покупка")*Операции!$G$2:$G$299),0)) -> 40 | C33: =IF($A33="","",IFERROR(SUMPRODUCT((Операции!$E$2:$E$299=$A33)*(Операции!$D$2:$D$299="Продажа")*Операции!$G$2:$G$299),0)) -> 0 | D33: =IF($A33="","",B33-C33) -> 40 | E33: =IF($A33="","",IFERROR(SUMPRODUCT((Операции!$E$2:$E$299=$A33)*(Операции!$D$2:$D$299="Покупка")*Операции!$G$2:$G$299*Операции!$H$2:$H$299)/SUMPRODUCT((Операции!$E$2:$E$299=$A33)*(Операции!$D$2:$D$299="Покупка")*Операции!$G$2:$G$299),0)) -> 258.714 | F33: =IF($A33="","",D33*E33) -> 10348.56 | G33: =VLOOKUP(A33,'Цены (API)'!A:C,3,0) -> 287.46 | H33: =IF($A33="","",IF(G33="",0,D33*N(G33))) -> 11498.4 | I33: =IF($A33="","",H33-F33) -> 1149.84 | J33: =IF($A33="","",IFERROR(I33/F33,0)) -> 0.11111111 | K33: Финансы
A34: =IFERROR(__xludf.DUMMYFUNCTION("""COMPUTED_VALUE"""),"X5") -> X5 | B34: =IF($A34="","",IFERROR(SUMPRODUCT((Операции!$E$2:$E$299=$A34)*(Операции!$D$2:$D$299="Покупка")*Операции!$G$2:$G$299),0)) -> 7 | C34: =IF($A34="","",IFERROR(SUMPRODUCT((Операции!$E$2:$E$299=$A34)*(Операции!$D$2:$D$299="Продажа")*Операции!$G$2:$G$299),0)) -> 0 | D34: =IF($A34="","",B34-C34) -> 7 | E34: =IF($A34="","",IFERROR(SUMPRODUCT((Операции!$E$2:$E$299=$A34)*(Операции!$D$2:$D$299="Покупка")*Операции!$G$2:$G$299*Операции!$H$2:$H$299)/SUMPRODUCT((Операции!$E$2:$E$299=$A34)*(Операции!$D$2:$D$299="Покупка")*Операции!$G$2:$G$299),0)) -> 1909.35 | F34: =IF($A34="","",D34*E34) -> 13365.45 | G34: =VLOOKUP(A34,'Цены (API)'!A:C,3,0) -> 2121.5 | H34: =IF($A34="","",IF(G34="",0,D34*N(G34))) -> 14850.5 | I34: =IF($A34="","",H34-F34) -> 1485.05 | J34: =IF($A34="","",IFERROR(I34/F34,0)) -> 0.11111111 | K34: Потребительский
A35: =IFERROR(__xludf.DUMMYFUNCTION("""COMPUTED_VALUE"""),"YDEX") -> YDEX | B35: =IF($A35="","",IFERROR(SUMPRODUCT((Операции!$E$2:$E$299=$A35)*(Операции!$D$2:$D$299="Покупка")*Операции!$G$2:$G$299),0)) -> 100 | C35: =IF($A35="","",IFERROR(SUMPRODUCT((Операции!$E$2:$E$299=$A35)*(Операции!$D$2:$D$299="Продажа")*Операции!$G$2:$G$299),0)) -> 0 | D35: =IF($A35="","",B35-C35) -> 100 | E35: =IF($A35="","",IFERROR(SUMPRODUCT((Операции!$E$2:$E$299=$A35)*(Операции!$D$2:$D$299="Покупка")*Операции!$G$2:$G$299*Операции!$H$2:$H$299)/SUMPRODUCT((Операции!$E$2:$E$299=$A35)*(Операции!$D$2:$D$299="Покупка")*Операции!$G$2:$G$299),0)) -> 3155.85 | F35: =IF($A35="","",D35*E35) -> 315585 | G35: =VLOOKUP(A35,'Цены (API)'!A:C,3,0) -> 3506.5 | H35: =IF($A35="","",IF(G35="",0,D35*N(G35))) -> 350650 | I35: =IF($A35="","",H35-F35) -> 35065 | J35: =IF($A35="","",IFERROR(I35/F35,0)) -> 0.11111111 | K35: ИТ
B36: =IF($A36="","",IFERROR(SUMPRODUCT((Операции!$E$2:$E$299=$A36)*(Операции!$D$2:$D$299="Покупка")*Операции!$G$2:$G$299),0)) | C36: =IF($A36="","",IFERROR(SUMPRODUCT((Операции!$E$2:$E$299=$A36)*(Операции!$D$2:$D$299="Продажа")*Операции!$G$2:$G$299),0)) | D36: =IF($A36="","",B36-C36) | E36: =IF($A36="","",IFERROR(SUMPRODUCT((Операции!$E$2:$E$299=$A36)*(Операции!$D$2:$D$299="Покупка")*Операции!$G$2:$G$299*Операции!$H$2:$H$299)/SUMPRODUCT((Операции!$E$2:$E$299=$A36)*(Операции!$D$2:$D$299="Покупка")*Операции!$G$2:$G$299),0)) | F36: =IF($A36="","",D36*E36) | H36: =IF($A36="","",IF(G36="",0,D36*N(G36))) | I36: =IF($A36="","",H36-F36) | J36: =IF($A36="","",IFERROR(I36/F36,0))
B37: =IF($A37="","",IFERROR(SUMPRODUCT((Операции!$E$2:$E$299=$A37)*(Операции!$D$2:$D$299="Покупка")*Операции!$G$2:$G$299),0)) | C37: =IF($A37="","",IFERROR(SUMPRODUCT((Операции!$E$2:$E$299=$A37)*(Операции!$D$2:$D$299="Продажа")*Операции!$G$2:$G$299),0)) | D37: =IF($A37="","",B37-C37) | E37: =IF($A37="","",IFERROR(SUMPRODUCT((Операции!$E$2:$E$299=$A37)*(Операции!$D$2:$D$299="Покупка")*Операции!$G$2:$G$299*Операции!$H$2:$H$299)/SUMPRODUCT((Операции!$E$2:$E$299=$A37)*(Операции!$D$2:$D$299="Покупка")*Операции!$G$2:$G$299),0)) | F37: =IF($A37="","",D37*E37) | H37: =IF($A37="","",IF(G37="",0,D37*N(G37))) | I37: =IF($A37="","",H37-F37) | J37: =IF($A37="","",IFERROR(I37/F37,0))
B38: =IF($A38="","",IFERROR(SUMPRODUCT((Операции!$E$2:$E$299=$A38)*(Операции!$D$2:$D$299="Покупка")*Операции!$G$2:$G$299),0)) | C38: =IF($A38="","",IFERROR(SUMPRODUCT((Операции!$E$2:$E$299=$A38)*(Операции!$D$2:$D$299="Продажа")*Операции!$G$2:$G$299),0)) | D38: =IF($A38="","",B38-C38) | E38: =IF($A38="","",IFERROR(SUMPRODUCT((Операции!$E$2:$E$299=$A38)*(Операции!$D$2:$D$299="Покупка")*Операции!$G$2:$G$299*Операции!$H$2:$H$299)/SUMPRODUCT((Операции!$E$2:$E$299=$A38)*(Операции!$D$2:$D$299="Покупка")*Операции!$G$2:$G$299),0)) | F38: =IF($A38="","",D38*E38) | H38: =IF($A38="","",IF(G38="",0,D38*N(G38))) | I38: =IF($A38="","",H38-F38) | J38: =IF($A38="","",IFERROR(I38/F38,0))
B39: =IF($A39="","",IFERROR(SUMPRODUCT((Операции!$E$2:$E$299=$A39)*(Операции!$D$2:$D$299="Покупка")*Операции!$G$2:$G$299),0)) | C39: =IF($A39="","",IFERROR(SUMPRODUCT((Операции!$E$2:$E$299=$A39)*(Операции!$D$2:$D$299="Продажа")*Операции!$G$2:$G$299),0)) | D39: =IF($A39="","",B39-C39) | E39: =IF($A39="","",IFERROR(SUMPRODUCT((Операции!$E$2:$E$299=$A39)*(Операции!$D$2:$D$299="Покупка")*Операции!$G$2:$G$299*Операции!$H$2:$H$299)/SUMPRODUCT((Операции!$E$2:$E$299=$A39)*(Операции!$D$2:$D$299="Покупка")*Операции!$G$2:$G$299),0)) | F39: =IF($A39="","",D39*E39) | H39: =IF($A39="","",IF(G39="",0,D39*N(G39))) | I39: =IF($A39="","",H39-F39) | J39: =IF($A39="","",IFERROR(I39/F39,0))
B40: =IF($A40="","",IFERROR(SUMPRODUCT((Операции!$E$2:$E$299=$A40)*(Операции!$D$2:$D$299="Покупка")*Операции!$G$2:$G$299),0)) | C40: =IF($A40="","",IFERROR(SUMPRODUCT((Операции!$E$2:$E$299=$A40)*(Операции!$D$2:$D$299="Продажа")*Операции!$G$2:$G$299),0)) | D40: =IF($A40="","",B40-C40) | E40: =IF($A40="","",IFERROR(SUMPRODUCT((Операции!$E$2:$E$299=$A40)*(Операции!$D$2:$D$299="Покупка")*Операции!$G$2:$G$299*Операции!$H$2:$H$299)/SUMPRODUCT((Операции!$E$2:$E$299=$A40)*(Операции!$D$2:$D$299="Покупка")*Операции!$G$2:$G$299),0)) | F40: =IF($A40="","",D40*E40) | H40: =IF($A40="","",IF(G40="",0,D40*N(G40))) | I40: =IF($A40="","",H40-F40) | J40: =IF($A40="","",IFERROR(I40/F40,0))
B41: =IF($A41="","",IFERROR(SUMPRODUCT((Операции!$E$2:$E$299=$A41)*(Операции!$D$2:$D$299="Покупка")*Операции!$G$2:$G$299),0)) | C41: =IF($A41="","",IFERROR(SUMPRODUCT((Операции!$E$2:$E$299=$A41)*(Операции!$D$2:$D$299="Продажа")*Операции!$G$2:$G$299),0)) | D41: =IF($A41="","",B41-C41) | E41: =IF($A41="","",IFERROR(SUMPRODUCT((Операции!$E$2:$E$299=$A41)*(Операции!$D$2:$D$299="Покупка")*Операции!$G$2:$G$299*Операции!$H$2:$H$299)/SUMPRODUCT((Операции!$E$2:$E$299=$A41)*(Операции!$D$2:$D$299="Покупка")*Операции!$G$2:$G$299),0)) | F41: =IF($A41="","",D41*E41) | H41: =IF($A41="","",IF(G41="",0,D41*N(G41))) | I41: =IF($A41="","",H41-F41) | J41: =IF($A41="","",IFERROR(I41/F41,0))
B42: =IF($A42="","",IFERROR(SUMPRODUCT((Операции!$E$2:$E$299=$A42)*(Операции!$D$2:$D$299="Покупка")*Операции!$G$2:$G$299),0)) | C42: =IF($A42="","",IFERROR(SUMPRODUCT((Операции!$E$2:$E$299=$A42)*(Операции!$D$2:$D$299="Продажа")*Операции!$G$2:$G$299),0)) | D42: =IF($A42="","",B42-C42) | E42: =IF($A42="","",IFERROR(SUMPRODUCT((Операции!$E$2:$E$299=$A42)*(Операции!$D$2:$D$299="Покупка")*Операции!$G$2:$G$299*Операции!$H$2:$H$299)/SUMPRODUCT((Операции!$E$2:$E$299=$A42)*(Операции!$D$2:$D$299="Покупка")*Операции!$G$2:$G$299),0)) | F42: =IF($A42="","",D42*E42) | H42: =IF($A42="","",IF(G42="",0,D42*N(G42))) | I42: =IF($A42="","",H42-F42) | J42: =IF($A42="","",IFERROR(I42/F42,0))
B43: =IF($A43="","",IFERROR(SUMPRODUCT((Операции!$E$2:$E$299=$A43)*(Операции!$D$2:$D$299="Покупка")*Операции!$G$2:$G$299),0)) | C43: =IF($A43="","",IFERROR(SUMPRODUCT((Операции!$E$2:$E$299=$A43)*(Операции!$D$2:$D$299="Продажа")*Операции!$G$2:$G$299),0)) | D43: =IF($A43="","",B43-C43) | E43: =IF($A43="","",IFERROR(SUMPRODUCT((Операции!$E$2:$E$299=$A43)*(Операции!$D$2:$D$299="Покупка")*Операции!$G$2:$G$299*Операции!$H$2:$H$299)/SUMPRODUCT((Операции!$E$2:$E$299=$A43)*(Операции!$D$2:$D$299="Покупка")*Операции!$G$2:$G$299),0)) | F43: =IF($A43="","",D43*E43) | H43: =IF($A43="","",IF(G43="",0,D43*N(G43))) | I43: =IF($A43="","",H43-F43) | J43: =IF($A43="","",IFERROR(I43/F43,0))
B44: =IF($A44="","",IFERROR(SUMPRODUCT((Операции!$E$2:$E$299=$A44)*(Операции!$D$2:$D$299="Покупка")*Операции!$G$2:$G$299),0)) | C44: =IF($A44="","",IFERROR(SUMPRODUCT((Операции!$E$2:$E$299=$A44)*(Операции!$D$2:$D$299="Продажа")*Операции!$G$2:$G$299),0)) | D44: =IF($A44="","",B44-C44) | E44: =IF($A44="","",IFERROR(SUMPRODUCT((Операции!$E$2:$E$299=$A44)*(Операции!$D$2:$D$299="Покупка")*Операции!$G$2:$G$299*Операции!$H$2:$H$299)/SUMPRODUCT((Операции!$E$2:$E$299=$A44)*(Операции!$D$2:$D$299="Покупка")*Операции!$G$2:$G$299),0)) | F44: =IF($A44="","",D44*E44) | H44: =IF($A44="","",IF(G44="",0,D44*N(G44))) | I44: =IF($A44="","",H44-F44) | J44: =IF($A44="","",IFERROR(I44/F44,0))
B45: =IF($A45="","",IFERROR(SUMPRODUCT((Операции!$E$2:$E$299=$A45)*(Операции!$D$2:$D$299="Покупка")*Операции!$G$2:$G$299),0)) | C45: =IF($A45="","",IFERROR(SUMPRODUCT((Операции!$E$2:$E$299=$A45)*(Операции!$D$2:$D$299="Продажа")*Операции!$G$2:$G$299),0)) | D45: =IF($A45="","",B45-C45) | E45: =IF($A45="","",IFERROR(SUMPRODUCT((Операции!$E$2:$E$299=$A45)*(Операции!$D$2:$D$299="Покупка")*Операции!$G$2:$G$299*Операции!$H$2:$H$299)/SUMPRODUCT((Операции!$E$2:$E$299=$A45)*(Операции!$D$2:$D$299="Покупка")*Операции!$G$2:$G$299),0)) | F45: =IF($A45="","",D45*E45) | H45: =IF($A45="","",IF(G45="",0,D45*N(G45))) | I45: =IF($A45="","",H45-F45) | J45: =IF($A45="","",IFERROR(I45/F45,0))
B46: =IF($A46="","",IFERROR(SUMPRODUCT((Операции!$E$2:$E$299=$A46)*(Операции!$D$2:$D$299="Покупка")*Операции!$G$2:$G$299),0)) | C46: =IF($A46="","",IFERROR(SUMPRODUCT((Операции!$E$2:$E$299=$A46)*(Операции!$D$2:$D$299="Продажа")*Операции!$G$2:$G$299),0)) | D46: =IF($A46="","",B46-C46) | E46: =IF($A46="","",IFERROR(SUMPRODUCT((Операции!$E$2:$E$299=$A46)*(Операции!$D$2:$D$299="Покупка")*Операции!$G$2:$G$299*Операции!$H$2:$H$299)/SUMPRODUCT((Операции!$E$2:$E$299=$A46)*(Операции!$D$2:$D$299="Покупка")*Операции!$G$2:$G$299),0)) | F46: =IF($A46="","",D46*E46) | H46: =IF($A46="","",IF(G46="",0,D46*N(G46))) | I46: =IF($A46="","",H46-F46) | J46: =IF($A46="","",IFERROR(I46/F46,0))
A53: СТРУКТУРА ПОРТФЕЛЯ ПО СЕКТОРАМ | E53: ДИВИДЕНДЫ И КУПОНЫ ПО МЕСЯЦАМ | H53: год — в жёлтой ячейке B1)
A54: Сектор | B54: Стоимость, ₽ | E54: Месяц | F54: Получено, ₽ | G54: Ожидается, ₽ (вручную)
A55: {=IFERROR(INDEX(Справочники!$C$2:$C$9,1),"")} -> Нефть и газ | B55: =IF($A55="","",SUMIF($K$27:$K$46,$A55,$G$27:$G$46)) -> 7436 | E55: Январь | F55: =SUMIFS(Операции!I:I,Операции!A:A,Дашборд!$E55,Операции!B:B,Дашборд!$D$1,Операции!D:D,"Дивиденд")+SUMIFS(Операции!I:I,Операции!A:A,Дашборд!$E55,Операции!B:B,Дашборд!$D$1,Операции!D:D,"Купон") -> 0 | G55: 10000
A56: {=IFERROR(INDEX(Справочники!$C$2:$C$9,2),"")} -> Финансы | B56: =IF($A56="","",SUMIF($K$27:$K$46,$A56,$G$27:$G$46)) -> 574.57 | E56: Февраль | F56: =SUMIFS(Операции!I:I,Операции!A:A,Дашборд!$E56,Операции!B:B,Дашборд!$D$1,Операции!D:D,"Дивиденд")+SUMIFS(Операции!I:I,Операции!A:A,Дашборд!$E56,Операции!B:B,Дашборд!$D$1,Операции!D:D,"Купон") -> 0 | G56: 10000
A57: {=IFERROR(INDEX(Справочники!$C$2:$C$9,3),"")} -> ИТ | B57: =IF($A57="","",SUMIF($K$27:$K$46,$A57,$G$27:$G$46)) -> 3506.5 | E57: Март | F57: =SUMIFS(Операции!I:I,Операции!A:A,Дашборд!$E57,Операции!B:B,Дашборд!$D$1,Операции!D:D,"Дивиденд")+SUMIFS(Операции!I:I,Операции!A:A,Дашборд!$E57,Операции!B:B,Дашборд!$D$1,Операции!D:D,"Купон") -> 7000 | G57: 10000
A58: {=IFERROR(INDEX(Справочники!$C$2:$C$9,4),"")} -> Металлургия и добыча | B58: =IF($A58="","",SUMIF($K$27:$K$46,$A58,$G$27:$G$46)) -> 0 | E58: Апрель | F58: =SUMIFS(Операции!I:I,Операции!A:A,Дашборд!$E58,Операции!B:B,Дашборд!$D$1,Операции!D:D,"Дивиденд")+SUMIFS(Операции!I:I,Операции!A:A,Дашборд!$E58,Операции!B:B,Дашборд!$D$1,Операции!D:D,"Купон") -> 0 | G58: 20000
A59: {=IFERROR(INDEX(Справочники!$C$2:$C$9,5),"")} -> Потребительский | B59: =IF($A59="","",SUMIF($K$27:$K$46,$A59,$G$27:$G$46)) -> 2374.17 | E59: Май | F59: =SUMIFS(Операции!I:I,Операции!A:A,Дашборд!$E59,Операции!B:B,Дашборд!$D$1,Операции!D:D,"Дивиденд")+SUMIFS(Операции!I:I,Операции!A:A,Дашборд!$E59,Операции!B:B,Дашборд!$D$1,Операции!D:D,"Купон") -> 0 | G59: 20000
A60: {=IFERROR(INDEX(Справочники!$C$2:$C$9,6),"")} -> Электроэнергетика | B60: =IF($A60="","",SUMIF($K$27:$K$46,$A60,$G$27:$G$46)) -> 2.5635 | E60: Июнь | F60: =SUMIFS(Операции!I:I,Операции!A:A,Дашборд!$E60,Операции!B:B,Дашборд!$D$1,Операции!D:D,"Дивиденд")+SUMIFS(Операции!I:I,Операции!A:A,Дашборд!$E60,Операции!B:B,Дашборд!$D$1,Операции!D:D,"Купон") -> 0 | G60: 20000
A61: {=IFERROR(INDEX(Справочники!$C$2:$C$9,7),"")} -> Девелопмент | B61: =IF($A61="","",SUMIF($K$27:$K$46,$A61,$G$27:$G$46)) -> 0 | E61: Июль | F61: =SUMIFS(Операции!I:I,Операции!A:A,Дашборд!$E61,Операции!B:B,Дашборд!$D$1,Операции!D:D,"Дивиденд")+SUMIFS(Операции!I:I,Операции!A:A,Дашборд!$E61,Операции!B:B,Дашборд!$D$1,Операции!D:D,"Купон") -> 0 | G61: 20000
A62: {=IFERROR(INDEX(Справочники!$C$2:$C$9,8),"")} -> Другое | B62: =IF($A62="","",SUMIF($K$27:$K$46,$A62,$G$27:$G$46)) -> 0 | E62: Август | F62: =SUMIFS(Операции!I:I,Операции!A:A,Дашборд!$E62,Операции!B:B,Дашборд!$D$1,Операции!D:D,"Дивиденд")+SUMIFS(Операции!I:I,Операции!A:A,Дашборд!$E62,Операции!B:B,Дашборд!$D$1,Операции!D:D,"Купон") -> 0 | G62: 20000
...

Sheet Ребалансировка
A1: ⚖ Ребалансировка портфеля
A2: Тикеры — с Дашборда (обновятся сами). Задайте целевые доли (сумма = 100%), впишите свободные деньги — получите план покупок в лотах.
A4: Свободные деньги: | B4: 0
A6: Тикер | B6: Целевой % | C6: Факт, ₽ | D6: Факт % | E6: Отклонение (п.п.) | F6: Докупить по цели, ₽ | G6: Цена | H6: Лот, шт. | I6: Купить, лотов
A7: =IF(Дашборд!A27="","",Дашборд!A27) -> BSPB | C7: =IF($A7="","",IFERROR(SUMPRODUCT((Операции!$E$2:$E$299=$A7)*(Операции!$D$2:$D$299="Покупка")*Операции!$G$2:$G$299*Операции!$H$2:$H$299),0)) -> 1137.015 | D7: =IF($A7="","",IF($C$40=0,0,C7/$C$40)) -> 0.0017306803 | E7: =IF($A7="","",D7-B7) -> 0.0017306803 | F7: =IF($A7="","",IF($B$4<=0,0,MAX(0,$B$4*B7-C7))) -> 0 | H7: 1 | I7: =IF($A7="","",IF(G7<=0,0,MAX(0,CEILING(F7/(G7*H7),1)))) -> 0
A8: =IF(Дашборд!A28="","",Дашборд!A28) -> IRAO | C8: =IF($A8="","",IFERROR(SUMPRODUCT((Операции!$E$2:$E$299=$A8)*(Операции!$D$2:$D$299="Покупка")*Операции!$G$2:$G$299*Операции!$H$2:$H$299),0)) -> 23.0715 | D8: =IF($A8="","",IF($C$40=0,0,C8/$C$40)) -> 3.5117733e-05 | E8: =IF($A8="","",D8-B8) -> 3.5117733e-05 | F8: =IF($A8="","",IF($B$4<=0,0,MAX(0,$B$4*B8-C8))) -> 0 | H8: 1 | I8: =IF($A8="","",IF(G8<=0,0,MAX(0,CEILING(F8/(G8*H8),1)))) -> 0
A9: =IF(Дашборд!A29="","",Дашборд!A29) -> LKOH | C9: =IF($A9="","",IFERROR(SUMPRODUCT((Операции!$E$2:$E$299=$A9)*(Операции!$D$2:$D$299="Покупка")*Операции!$G$2:$G$299*Операции!$H$2:$H$299),0)) -> 13600 | D9: =IF($A9="","",IF($C$40=0,0,C9/$C$40)) -> 0.020700916 | E9: =IF($A9="","",D9-B9) -> 0.020700916 | F9: =IF($A9="","",IF($B$4<=0,0,MAX(0,$B$4*B9-C9))) -> 0 | H9: 1 | I9: =IF($A9="","",IF(G9<=0,0,MAX(0,CEILING(F9/(G9*H9),1)))) -> 0
A10: =IF(Дашборд!A30="","",Дашборд!A30) -> NVTK | C10: =IF($A10="","",IFERROR(SUMPRODUCT((Операции!$E$2:$E$299=$A10)*(Операции!$D$2:$D$299="Покупка")*Операции!$G$2:$G$299*Операции!$H$2:$H$299),0)) -> 57942 | D10: =IF($A10="","",IF($C$40=0,0,C10/$C$40)) -> 0.088195033 | E10: =IF($A10="","",D10-B10) -> 0.088195033 | F10: =IF($A10="","",IF($B$4<=0,0,MAX(0,$B$4*B10-C10))) -> 0 | H10: 1 | I10: =IF($A10="","",IF(G10<=0,0,MAX(0,CEILING(F10/(G10*H10),1)))) -> 0
A11: =IF(Дашборд!A31="","",Дашборд!A31) -> ROSN | C11: =IF($A11="","",IFERROR(SUMPRODUCT((Операции!$E$2:$E$299=$A11)*(Операции!$D$2:$D$299="Покупка")*Операции!$G$2:$G$299*Операции!$H$2:$H$299),0)) -> 169200 | D11: =IF($A11="","",IF($C$40=0,0,C11/$C$40)) -> 0.25754374 | E11: =IF($A11="","",D11-B11) -> 0.25754374 | F11: =IF($A11="","",IF($B$4<=0,0,MAX(0,$B$4*B11-C11))) -> 0 | H11: 1 | I11: =IF($A11="","",IF(G11<=0,0,MAX(0,CEILING(F11/(G11*H11),1)))) -> 0
A12: =IF(Дашборд!A32="","",Дашборд!A32) -> SBER | C12: =IF($A12="","",IFERROR(SUMPRODUCT((Операции!$E$2:$E$299=$A12)*(Операции!$D$2:$D$299="Покупка")*Операции!$G$2:$G$299*Операции!$H$2:$H$299),0)) -> 75774.678 | D12: =IF($A12="","",IF($C$40=0,0,C12/$C$40)) -> 0.11533862 | E12: =IF($A12="","",D12-B12) -> 0.11533862 | F12: =IF($A12="","",IF($B$4<=0,0,MAX(0,$B$4*B12-C12))) -> 0 | H12: 1 | I12: =IF($A12="","",IF(G12<=0,0,MAX(0,CEILING(F12/(G12*H12),1)))) -> 0
A13: =IF(Дашборд!A33="","",Дашборд!A33) -> SBERP | C13: =IF($A13="","",IFERROR(SUMPRODUCT((Операции!$E$2:$E$299=$A13)*(Операции!$D$2:$D$299="Покупка")*Операции!$G$2:$G$299*Операции!$H$2:$H$299),0)) -> 10348.56 | D13: =IF($A13="","",IF($C$40=0,0,C13/$C$40)) -> 0.015751814 | E13: =IF($A13="","",D13-B13) -> 0.015751814 | F13: =IF($A13="","",IF($B$4<=0,0,MAX(0,$B$4*B13-C13))) -> 0 | H13: 1 | I13: =IF($A13="","",IF(G13<=0,0,MAX(0,CEILING(F13/(G13*H13),1)))) -> 0
A14: =IF(Дашборд!A34="","",Дашборд!A34) -> X5 | C14: =IF($A14="","",IFERROR(SUMPRODUCT((Операции!$E$2:$E$299=$A14)*(Операции!$D$2:$D$299="Покупка")*Операции!$G$2:$G$299*Операции!$H$2:$H$299),0)) -> 13365.45 | D14: =IF($A14="","",IF($C$40=0,0,C14/$C$40)) -> 0.020343901 | E14: =IF($A14="","",D14-B14) -> 0.020343901 | F14: =IF($A14="","",IF($B$4<=0,0,MAX(0,$B$4*B14-C14))) -> 0 | H14: 1 | I14: =IF($A14="","",IF(G14<=0,0,MAX(0,CEILING(F14/(G14*H14),1)))) -> 0
A15: =IF(Дашборд!A35="","",Дашборд!A35) -> YDEX | C15: =IF($A15="","",IFERROR(SUMPRODUCT((Операции!$E$2:$E$299=$A15)*(Операции!$D$2:$D$299="Покупка")*Операции!$G$2:$G$299*Операции!$H$2:$H$299),0)) -> 315585 | D15: =IF($A15="","",IF($C$40=0,0,C15/$C$40)) -> 0.48036018 | E15: =IF($A15="","",D15-B15) -> 0.48036018 | F15: =IF($A15="","",IF($B$4<=0,0,MAX(0,$B$4*B15-C15))) -> 0 | H15: 1 | I15: =IF($A15="","",IF(G15<=0,0,MAX(0,CEILING(F15/(G15*H15),1)))) -> 0
A16: =IF(Дашборд!A36="","",Дашборд!A36) | C16: =IF($A16="","",IFERROR(SUMPRODUCT((Операции!$E$2:$E$299=$A16)*(Операции!$D$2:$D$299="Покупка")*Операции!$G$2:$G$299*Операции!$H$2:$H$299),0)) | D16: =IF($A16="","",IF($C$40=0,0,C16/$C$40)) | E16: =IF($A16="","",D16-B16) | F16: =IF($A16="","",IF($B$4<=0,0,MAX(0,$B$4*B16-C16))) | H16: 1 | I16: =IF($A16="","",IF(G16<=0,0,MAX(0,CEILING(F16/(G16*H16),1))))
A17: =IF(Дашборд!A37="","",Дашборд!A37) | C17: =IF($A17="","",IFERROR(SUMPRODUCT((Операции!$E$2:$E$299=$A17)*(Операции!$D$2:$D$299="Покупка")*Операции!$G$2:$G$299*Операции!$H$2:$H$299),0)) | D17: =IF($A17="","",IF($C$40=0,0,C17/$C$40)) | E17: =IF($A17="","",D17-B17) | F17: =IF($A17="","",IF($B$4<=0,0,MAX(0,$B$4*B17-C17))) | H17: 1 | I17: =IF($A17="","",IF(G17<=0,0,MAX(0,CEILING(F17/(G17*H17),1))))
A18: =IF(Дашборд!A38="","",Дашборд!A38) | C18: =IF($A18="","",IFERROR(SUMPRODUCT((Операции!$E$2:$E$299=$A18)*(Операции!$D$2:$D$299="Покупка")*Операции!$G$2:$G$299*Операции!$H$2:$H$299),0)) | D18: =IF($A18="","",IF($C$40=0,0,C18/$C$40)) | E18: =IF($A18="","",D18-B18) | F18: =IF($A18="","",IF($B$4<=0,0,MAX(0,$B$4*B18-C18))) | H18: 1 | I18: =IF($A18="","",IF(G18<=0,0,MAX(0,CEILING(F18/(G18*H18),1))))
... A26: =IF(Дашборд!A46="","",Дашборд!A46) | C26: =IF($A26="","",IFERROR(SUMPRODUCT((Операции!$E$2:$E$299=$A26)*(Операции!$D$2:$D$299="Покупка")*Операции!$G$2:$G$299*Операции!$H$2:$H$299),0)) | D26: =IF($A26="","",IF($C$40=0,0,C26/$C$40)) | E26: =IF($A26="","",D26-B26) | F26: =IF($A26="","",IF($B$4<=0,0,MAX(0,$B$4*B26-C26))) | H26: 1 | I26: =IF($A26="","",IF(G26<=0,0,MAX(0,CEILING(F26/(G26*H26),1))))
A40: Итого: | B40: =SUM(B7:B26) -> 0 | C40: =SUM(C7:C26) -> 656975.77 | D40: =SUM(D7:D26) -> 1 | F40: =SUM(F7:F26) -> 0
A41: Если «Итого целевой %» ≠ 100% — поправьте доли.

Sheet Цены (API)
A1: 🔁 Живые цены Мосбиржи — работает только в Google Таблицах (в скачанном Excel не обновляется)
A2: Колонку C переносите в жёлтые ячейки Дашборда/Ребалансировки. Обновление: Ctrl+Alt+F9 (кэш ~1 час). Источник: iss.moex.com
A4: Тикер | B4: Цена из API | C4: Копия для расчёта (числом)
A5: SBER | B5: =IFERROR(__xludf.DUMMYFUNCTION("IFERROR(INDEX(IMPORTXML(""https://iss.moex.com/iss/engines/stock/markets/shares/boards/TQBR/securities/""&A5&"".xml?iss.meta=off&iss.only=marketdata&marketdata.columns=LAST"",""//row/@LAST""),1),""-"")"),287.11) -> 287.11 | C5: =IFERROR(__xludf.DUMMYFUNCTION("IF(OR(B5=""-"",B5=""""),"""",SUBSTITUTE(REGEXREPLACE(TO_TEXT(B5),""\s"",""""),""."","","")*1)"),287.11) -> 287.11
A6: LKOH | B6: =IFERROR(__xludf.DUMMYFUNCTION("IFERROR(INDEX(IMPORTXML(""https://iss.moex.com/iss/engines/stock/markets/shares/boards/TQBR/securities/""&A6&"".xml?iss.meta=off&iss.only=marketdata&marketdata.columns=LAST"",""//row/@LAST""),1),""-"")"),5987) -> 5987 | C6: =IFERROR(__xludf.DUMMYFUNCTION("IF(OR(B6=""-"",B6=""""),"""",SUBSTITUTE(REGEXREPLACE(TO_TEXT(B6),""\s"",""""),""."","","")*1)"),5987) -> 5987
A7: GAZP | B7: =IFERROR(__xludf.DUMMYFUNCTION("IFERROR(INDEX(IMPORTXML(""https://iss.moex.com/iss/engines/stock/markets/shares/boards/TQBR/securities/""&A7&"".xml?iss.meta=off&iss.only=marketdata&marketdata.columns=LAST"",""//row/@LAST""),1),""-"")"),103.4) -> 103.4 | C7: =IFERROR(__xludf.DUMMYFUNCTION("IF(OR(B7=""-"",B7=""""),"""",SUBSTITUTE(REGEXREPLACE(TO_TEXT(B7),""\s"",""""),""."","","")*1)"),103.4) -> 103.4
A8: GMKN | B8: =IFERROR(__xludf.DUMMYFUNCTION("IFERROR(INDEX(IMPORTXML(""https://iss.moex.com/iss/engines/stock/markets/shares/boards/TQBR/securities/""&A8&"".xml?iss.meta=off&iss.only=marketdata&marketdata.columns=LAST"",""//row/@LAST""),1),""-"")"),118.82) -> 118.82 | C8: =IFERROR(__xludf.DUMMYFUNCTION("IF(OR(B8=""-"",B8=""""),"""",SUBSTITUTE(REGEXREPLACE(TO_TEXT(B8),""\s"",""""),""."","","")*1)"),118.82) -> 118.82
A9: YDEX | B9: =IFERROR(__xludf.DUMMYFUNCTION("IFERROR(INDEX(IMPORTXML(""https://iss.moex.com/iss/engines/stock/markets/shares/boards/TQBR/securities/""&A9&"".xml?iss.meta=off&iss.only=marketdata&marketdata.columns=LAST"",""//row/@LAST""),1),""-"")"),3506.5) -> 3506.5 | C9: =IFERROR(__xludf.DUMMYFUNCTION("IF(OR(B9=""-"",B9=""""),"""",SUBSTITUTE(REGEXREPLACE(TO_TEXT(B9),""\s"",""""),""."","","")*1)"),3506.5) -> 3506.5
A10: OZON | B10: =IFERROR(__xludf.DUMMYFUNCTION("IFERROR(INDEX(IMPORTXML(""https://iss.moex.com/iss/engines/stock/markets/shares/boards/TQBR/securities/""&A10&"".xml?iss.meta=off&iss.only=marketdata&marketdata.columns=LAST"",""//row/@LAST""),1),""-"")"),3450.5) -> 3450.5 | C10: =IFERROR(__xludf.DUMMYFUNCTION("IF(OR(B10=""-"",B10=""""),"""",SUBSTITUTE(REGEXREPLACE(TO_TEXT(B10),""\s"",""""),""."","","")*1)"),3450.5) -> 3450.5
A11: MTSS | B11: =IFERROR(__xludf.DUMMYFUNCTION("IFERROR(INDEX(IMPORTXML(""https://iss.moex.com/iss/engines/stock/markets/shares/boards/TQBR/securities/""&A11&"".xml?iss.meta=off&iss.only=marketdata&marketdata.columns=LAST"",""//row/@LAST""),1),""-"")"),174) -> 174 | C11: =IFERROR(__xludf.DUMMYFUNCTION("IF(OR(B11=""-"",B11=""""),"""",SUBSTITUTE(REGEXREPLACE(TO_TEXT(B11),""\s"",""""),""."","","")*1)"),174) -> 174
A12: ROSN | B12: =IFERROR(__xludf.DUMMYFUNCTION("IFERROR(INDEX(IMPORTXML(""https://iss.moex.com/iss/engines/stock/markets/shares/boards/TQBR/securities/""&A12&"".xml?iss.meta=off&iss.only=marketdata&marketdata.columns=LAST"",""//row/@LAST""),1),""-"")"),376) -> 376 | C12: =IFERROR(__xludf.DUMMYFUNCTION("IF(OR(B12=""-"",B12=""""),"""",SUBSTITUTE(REGEXREPLACE(TO_TEXT(B12),""\s"",""""),""."","","")*1)"),376) -> 376
A13: NVTK | B13: =IFERROR(__xludf.DUMMYFUNCTION("IFERROR(INDEX(IMPORTXML(""https://iss.moex.com/iss/engines/stock/markets/shares/boards/TQBR/securities/""&A13&"".xml?iss.meta=off&iss.only=marketdata&marketdata.columns=LAST"",""//row/@LAST""),1),""-"")"),1073) -> 1073 | C13: =IFERROR(__xludf.DUMMYFUNCTION("IF(OR(B13=""-"",B13=""""),"""",SUBSTITUTE(REGEXREPLACE(TO_TEXT(B13),""\s"",""""),""."","","")*1)"),1073) -> 1073
A14: TATN | B14: =IFERROR(__xludf.DUMMYFUNCTION("IFERROR(INDEX(IMPORTXML(""https://iss.moex.com/iss/engines/stock/markets/shares/boards/TQBR/securities/""&A14&"".xml?iss.meta=off&iss.only=marketdata&marketdata.columns=LAST"",""//row/@LAST""),1),""-"")"),662.1) -> 662.1 | C14: =IFERROR(__xludf.DUMMYFUNCTION("IF(OR(B14=""-"",B14=""""),"""",SUBSTITUTE(REGEXREPLACE(TO_TEXT(B14),""\s"",""""),""."","","")*1)"),662.1) -> 662.1
A15: PLZL | B15: =IFERROR(__xludf.DUMMYFUNCTION("IFERROR(INDEX(IMPORTXML(""https://iss.moex.com/iss/engines/stock/markets/shares/boards/TQBR/securities/""&A15&"".xml?iss.meta=off&iss.only=marketdata&marketdata.columns=LAST"",""//row/@LAST""),1),""-"")"),1072.4) -> 1072.4 | C15: =IFERROR(__xludf.DUMMYFUNCTION("IF(OR(B15=""-"",B15=""""),"""",SUBSTITUTE(REGEXREPLACE(TO_TEXT(B15),""\s"",""""),""."","","")*1)"),1072.4) -> 1072.4
A16: VTBR | B16: =IFERROR(__xludf.DUMMYFUNCTION("IFERROR(INDEX(IMPORTXML(""https://iss.moex.com/iss/engines/stock/markets/shares/boards/TQBR/securities/""&A16&"".xml?iss.meta=off&iss.only=marketdata&marketdata.columns=LAST"",""//row/@LAST""),1),""-"")"),56.34) -> 56.34 | C16: =IFERROR(__xludf.DUMMYFUNCTION("IF(OR(B16=""-"",B16=""""),"""",SUBSTITUTE(REGEXREPLACE(TO_TEXT(B16),""\s"",""""),""."","","")*1)"),56.34) -> 56.34
A17: MGNT | B17: =IFERROR(__xludf.DUMMYFUNCTION("IFERROR(INDEX(IMPORTXML(""https://iss.moex.com/iss/engines/stock/markets/shares/boards/TQBR/securities/""&A17&"".xml?iss.meta=off&iss.only=marketdata&marketdata.columns=LAST"",""//row/@LAST""),1),""-"")"),1755) -> 1755 | C17: =IFERROR(__xludf.DUMMYFUNCTION("IF(OR(B17=""-"",B17=""""),"""",SUBSTITUTE(REGEXREPLACE(TO_TEXT(B17),""\s"",""""),""."","","")*1)"),1755) -> 1755
A18: X5 | B18: =IFERROR(__xludf.DUMMYFUNCTION("IFERROR(INDEX(IMPORTXML(""https://iss.moex.com/iss/engines/stock/markets/shares/boards/TQBR/securities/""&A18&"".xml?iss.meta=off&iss.only=marketdata&marketdata.columns=LAST"",""//row/@LAST""),1),""-"")"),2121.5) -> 2121.5 | C18: =IFERROR(__xludf.DUMMYFUNCTION("IF(OR(B18=""-"",B18=""""),"""",SUBSTITUTE(REGEXREPLACE(TO_TEXT(B18),""\s"",""""),""."","","")*1)"),2121.5) -> 2121.5
A19: IRAO | B19: =IFERROR(__xludf.DUMMYFUNCTION("IFERROR(INDEX(IMPORTXML(""https://iss.moex.com/iss/engines/stock/markets/shares/boards/TQBR/securities/""&A19&"".xml?iss.meta=off&iss.only=marketdata&marketdata.columns=LAST"",""//row/@LAST""),1),""-"")"),2.5635) -> 2.5635 | C19: =IFERROR(__xludf.DUMMYFUNCTION("IF(OR(B19=""-"",B19=""""),"""",SUBSTITUTE(REGEXREPLACE(TO_TEXT(B19),""\s"",""""),""."","","")*1)"),2.5635) -> 2.5635
A20: BSPB | B20: =IFERROR(__xludf.DUMMYFUNCTION("IFERROR(INDEX(IMPORTXML(""https://iss.moex.com/iss/engines/stock/markets/shares/boards/TQBR/securities/""&A20&"".xml?iss.meta=off&iss.only=marketdata&marketdata.columns=LAST"",""//row/@LAST""),1),""-"")"),252.67) -> 252.67 | C20: =IFERROR(__xludf.DUMMYFUNCTION("IF(OR(B20=""-"",B20=""""),"""",SUBSTITUTE(REGEXREPLACE(TO_TEXT(B20),""\s"",""""),""."","","")*1)"),252.67) -> 252.67
A21: SBERP | B21: =IFERROR(__xludf.DUMMYFUNCTION("IFERROR(INDEX(IMPORTXML(""https://iss.moex.com/iss/engines/stock/markets/shares/boards/TQBR/securities/""&A21&"".xml?iss.meta=off&iss.only=marketdata&marketdata.columns=LAST"",""//row/@LAST""),1),""-"")"),"287.46") -> 287.46 | C21: =IFERROR(__xludf.DUMMYFUNCTION("IF(OR(B21=""-"",B21=""""),"""",SUBSTITUTE(REGEXREPLACE(TO_TEXT(B21),""\s"",""""),""."","","")*1)"),287.46) -> 287.46

Sheet Справочники
A1: Типы операций | B1: Валюты | C1: Секторы
A2: Покупка | B2: RUB | C2: Нефть и газ
A3: Продажа | B3: USD | C3: Финансы
A4: Дивиденд | B4: EUR | C4: ИТ
A5: Купон | C5: Металлургия и добыча
A6: Комиссия | C6: Потребительский
A7: Ввод | C7: Электроэнергетика
A8: Вывод | C8: Девелопмент
C9: Другое

Sheet Инструкция
A1: 📋 Шаблон таблицы учёта инвестиций
A3: Как пользоваться:
A4: 1. Лист «Операции»: удалите строки-примеры, вносите свои сделки — по одной строке на операцию.
A5: 2. Колонку «Сумма» не заполняйте для покупок/продаж/дивидендов — она считается сама.
A6: • Ввод/вывод денег: впишите сумму прямо в колонку «Сумма» — вручную. Формула заменится числом, так и задумано.
A7: 3. Лист «Дашборд»: тикеры подтянутся из «Операций» сами. Впишите актуальные цены в жёлтую колонку и сектора в колонку L.
A8: 4. Ввод/вывод денег — тоже операции (тип «Ввод»/«Вывод»): без них картина будет неверной.
A9: 5. Комиссию — в отдельную колонку, не в цену: иначе средняя цена уедет.
A11: Лист «Ребалансировка»: задайте целевые доли (сумма 100%), впишите свободные деньги — получите план покупок в лотах.
A13: Правила, чтобы учёт не надоел:
A14: • Операцию — в день сделки («запишу потом» обычно означает «никогда»).
A15: • Раз в месяц — сверка с отчётом брокера.
... A22: Всё это считает трекер: лист «Операции» загружается в BeGain как есть — begain.pro
